BEGIN:VCALENDAR
VERSION:2.0
PRODID:-//Middle Church - ECPv6.15.12.2//NONSGML v1.0//EN
CALSCALE:GREGORIAN
METHOD:PUBLISH
X-WR-CALNAME:Middle Church
X-ORIGINAL-URL:https://www.middlechurch.org
X-WR-CALDESC:Events for Middle Church
REFRESH-INTERVAL;VALUE=DURATION:PT1H
X-Robots-Tag:noindex
X-PUBLISHED-TTL:PT1H
BEGIN:VTIMEZONE
TZID:America/New_York
BEGIN:DAYLIGHT
TZOFFSETFROM:-0500
TZOFFSETTO:-0400
TZNAME:EDT
DTSTART:20250309T070000
END:DAYLIGHT
BEGIN:STANDARD
TZOFFSETFROM:-0400
TZOFFSETTO:-0500
TZNAME:EST
DTSTART:20251102T060000
END:STANDARD
BEGIN:DAYLIGHT
TZOFFSETFROM:-0500
TZOFFSETTO:-0400
TZNAME:EDT
DTSTART:20260308T070000
END:DAYLIGHT
BEGIN:STANDARD
TZOFFSETFROM:-0400
TZOFFSETTO:-0500
TZNAME:EST
DTSTART:20261101T060000
END:STANDARD
BEGIN:DAYLIGHT
TZOFFSETFROM:-0500
TZOFFSETTO:-0400
TZNAME:EDT
DTSTART:20270314T070000
END:DAYLIGHT
BEGIN:STANDARD
TZOFFSETFROM:-0400
TZOFFSETTO:-0500
TZNAME:EST
DTSTART:20271107T060000
END:STANDARD
END:VTIMEZONE
BEGIN:VEVENT
DTSTART;TZID=America/New_York:20260204T080000
DTEND;TZID=America/New_York:20260204T083000
DTSTAMP:20260421T074414
CREATED:20260106T165737Z
LAST-MODIFIED:20260107T183438Z
UID:10003062-1770192000-1770193800@www.middlechurch.org
SUMMARY:Pray to Rise
DESCRIPTION:Join Middle Clergy every Wednesday on Zoom for a moment of love and prayer to start your day. Bring whatever you’re carrying and we’ll hold it together. \nClick here to register and receive Zoom information! \nFor more information\, email middleinfo@middlechurch.org
URL:https://www.middlechurch.org/event/pray-to-rise-2-6-2-2/2026-02-04/
CATEGORIES:Care,Online,Prayer
ATTACH;FMTTYPE=image/jpeg:https://www.middlechurch.org/wp-content/uploads/2024/12/b6a7f622-805e-490f-9a82-dda33d125ae6_1080x1080.jpg
END:VEVENT
BEGIN:VEVENT
DTSTART;TZID=America/New_York:20260204T190000
DTEND;TZID=America/New_York:20260204T203000
DTSTAMP:20260421T074414
CREATED:20250702T174516Z
LAST-MODIFIED:20260108T141042Z
UID:10003112-1770231600-1770237000@www.middlechurch.org
SUMMARY:Ukuleliacs
DESCRIPTION:Ukulele beginners gather for fun and instruction! This group gathers on the first Wednesday of each month. \nClick here to RSVP and Receive the Zoom Link
URL:https://www.middlechurch.org/event/ukuleliacs-14/2026-02-04/
CATEGORIES:Art,Music
ATTACH;FMTTYPE=image/png:https://www.middlechurch.org/wp-content/uploads/2024/11/5.png
END:VEVENT
END:VCALENDAR