BEGIN:VCALENDAR
VERSION:2.0
PRODID:-//Middle Church - ECPv6.15.12.2//NONSGML v1.0//EN
CALSCALE:GREGORIAN
METHOD:PUBLISH
X-ORIGINAL-URL:https://www.middlechurch.org
X-WR-CALDESC:Events for Middle Church
REFRESH-INTERVAL;VALUE=DURATION:PT1H
X-Robots-Tag:noindex
X-PUBLISHED-TTL:PT1H
BEGIN:VTIMEZONE
TZID:America/New_York
BEGIN:DAYLIGHT
TZOFFSETFROM:-0500
TZOFFSETTO:-0400
TZNAME:EDT
DTSTART:20240310T070000
END:DAYLIGHT
BEGIN:STANDARD
TZOFFSETFROM:-0400
TZOFFSETTO:-0500
TZNAME:EST
DTSTART:20241103T060000
END:STANDARD
BEGIN:DAYLIGHT
TZOFFSETFROM:-0500
TZOFFSETTO:-0400
TZNAME:EDT
DTSTART:20250309T070000
END:DAYLIGHT
BEGIN:STANDARD
TZOFFSETFROM:-0400
TZOFFSETTO:-0500
TZNAME:EST
DTSTART:20251102T060000
END:STANDARD
BEGIN:DAYLIGHT
TZOFFSETFROM:-0500
TZOFFSETTO:-0400
TZNAME:EDT
DTSTART:20260308T070000
END:DAYLIGHT
BEGIN:STANDARD
TZOFFSETFROM:-0400
TZOFFSETTO:-0500
TZNAME:EST
DTSTART:20261101T060000
END:STANDARD
END:VTIMEZONE
BEGIN:VEVENT
DTSTART;TZID=America/New_York:20251018T080000
DTEND;TZID=America/New_York:20251018T170000
DTSTAMP:20260419T084834
CREATED:20251009T132801Z
LAST-MODIFIED:20251014T154637Z
UID:10002559-1760774400-1760806800@www.middlechurch.org
SUMMARY:No Kings Day
DESCRIPTION:Join Middle Church on the ground for No Kings Day\, a powerful day of public witness and liberation. We’ll march together in solidarity with movements demanding justice\, equality\, and freedom for all people—rejecting systems of domination and lifting up the truth that no human being should rule over another. \nBe part of this moment.\nSign up through our “On the Ground” Signal group to march with Middle. \nEmail Rev. Amanda  \nINFO: Middle is meeting at the Southeast Corner of 40th Street and 7th Avenue at 10:50 to march together for the Saturday\, October 18th No Kings Day march. \n\n(Official march kick off is 47th and Broadway — but we’ve learned to meet a bit down from the crowd — on the route.)
URL:https://www.middlechurch.org/event/no-kings-day-2/
CATEGORIES:Justice
ATTACH;FMTTYPE=image/png:https://www.middlechurch.org/wp-content/uploads/2025/10/images-5.png
END:VEVENT
END:VCALENDAR